BEGIN:VCALENDAR
VERSION:2.0
PRODID:-//Cambridge Science Park - ECPv6.15.20//NONSGML v1.0//EN
CALSCALE:GREGORIAN
METHOD:PUBLISH
X-WR-CALNAME:Cambridge Science Park
X-ORIGINAL-URL:https://cambridgesciencepark.co.uk
X-WR-CALDESC:Events for Cambridge Science Park
REFRESH-INTERVAL;VALUE=DURATION:PT1H
X-Robots-Tag:noindex
X-PUBLISHED-TTL:PT1H
BEGIN:VTIMEZONE
TZID:Europe/London
BEGIN:DAYLIGHT
TZOFFSETFROM:+0000
TZOFFSETTO:+0100
TZNAME:BST
DTSTART:20250330T010000
END:DAYLIGHT
BEGIN:STANDARD
TZOFFSETFROM:+0100
TZOFFSETTO:+0000
TZNAME:GMT
DTSTART:20251026T010000
END:STANDARD
BEGIN:DAYLIGHT
TZOFFSETFROM:+0000
TZOFFSETTO:+0100
TZNAME:BST
DTSTART:20260329T010000
END:DAYLIGHT
BEGIN:STANDARD
TZOFFSETFROM:+0100
TZOFFSETTO:+0000
TZNAME:GMT
DTSTART:20261025T010000
END:STANDARD
BEGIN:DAYLIGHT
TZOFFSETFROM:+0000
TZOFFSETTO:+0100
TZNAME:BST
DTSTART:20270328T010000
END:DAYLIGHT
BEGIN:STANDARD
TZOFFSETFROM:+0100
TZOFFSETTO:+0000
TZNAME:GMT
DTSTART:20271031T010000
END:STANDARD
END:VTIMEZONE
BEGIN:VEVENT
DTSTART;TZID=Europe/London:20260520T173000
DTEND;TZID=Europe/London:20260520T200000
DTSTAMP:20260423T185407
CREATED:20260423T145215Z
LAST-MODIFIED:20260423T150715Z
UID:11971-1779298200-1779307200@cambridgesciencepark.co.uk
SUMMARY:Tabletop Escape Room
DESCRIPTION:Tabletop Escape Room \nReady to plan the perfect heist… without the prison sentence? \nStep into the world of elite bank thieves and team up for one final\, high-stakes score in this tabletop escape game experience. The target? A local bank whose security has grown… suspiciously relaxed. The opportunity is too good to miss\, but you’re not the only crew planning to strike. \nWork together\, crack the clues\, and race against rival teams to uncover the security code to the bank’s safe. Every puzzle solved gets you closer to the vault… and the gold inside. \nEntering as a Team \nWhich of your colleagues do you trust to help you solve the puzzles and find that gold? Enter as a Team and find out! \nUp to 6 people per team \nEntering as an Individual \nNo Team? No Problem! Individuals are welcome to sign up and we will place you in a team on the day A great way to meet new people on the Park! \n  \nEmail to book your team or individual place at: helloteam@cambridgesciencepark.co.uk
URL:https://cambridgesciencepark.co.uk/calendar-event/tabletop-escape-room/
LOCATION:The Bradfield Centre\, 184 Cambridge Science Park Milton Rd\, Cambridge\, CB4 0GA\, United Kingdom
CATEGORIES:Community & Social,Park Event
ATTACH;FMTTYPE=image/png:https://cambridgesciencepark.co.uk/wp-content/uploads/2026/04/Screenshot-2026-04-23-155151.png
END:VEVENT
END:VCALENDAR