BEGIN:VCALENDAR
VERSION:2.0
PRODID:-//Cambridge Science Park - ECPv6.15.20//NONSGML v1.0//EN
CALSCALE:GREGORIAN
METHOD:PUBLISH
X-WR-CALNAME:Cambridge Science Park
X-ORIGINAL-URL:https://cambridgesciencepark.co.uk
X-WR-CALDESC:Events for Cambridge Science Park
REFRESH-INTERVAL;VALUE=DURATION:PT1H
X-Robots-Tag:noindex
X-PUBLISHED-TTL:PT1H
BEGIN:VTIMEZONE
TZID:Europe/London
BEGIN:DAYLIGHT
TZOFFSETFROM:+0000
TZOFFSETTO:+0100
TZNAME:BST
DTSTART:20250330T010000
END:DAYLIGHT
BEGIN:STANDARD
TZOFFSETFROM:+0100
TZOFFSETTO:+0000
TZNAME:GMT
DTSTART:20251026T010000
END:STANDARD
BEGIN:DAYLIGHT
TZOFFSETFROM:+0000
TZOFFSETTO:+0100
TZNAME:BST
DTSTART:20260329T010000
END:DAYLIGHT
BEGIN:STANDARD
TZOFFSETFROM:+0100
TZOFFSETTO:+0000
TZNAME:GMT
DTSTART:20261025T010000
END:STANDARD
BEGIN:DAYLIGHT
TZOFFSETFROM:+0000
TZOFFSETTO:+0100
TZNAME:BST
DTSTART:20270328T010000
END:DAYLIGHT
BEGIN:STANDARD
TZOFFSETFROM:+0100
TZOFFSETTO:+0000
TZNAME:GMT
DTSTART:20271031T010000
END:STANDARD
END:VTIMEZONE
BEGIN:VEVENT
DTSTART;TZID=Europe/London:20260514T123000
DTEND;TZID=Europe/London:20260514T130000
DTSTAMP:20260423T140037
CREATED:20260423T102257Z
LAST-MODIFIED:20260423T102257Z
UID:11952-1778761800-1778763600@cambridgesciencepark.co.uk
SUMMARY:Spring Bird Walk with the Wildlife Trust
DESCRIPTION:Spring Bird Walk with the Wildlife Trust \nThursday 14th May\, 12:30pm \nGet more out of your lunch break with the Wildlife Trust on a lunchtime trail through the Park. Discover which feathered friends are just outside your office doors with this Bird Walk. \nMeet us outside at the Bradfield Centre Pavilion with your ticket. \n(All tickets are free and help us manage capacity)
URL:https://cambridgesciencepark.co.uk/calendar-event/spring-bird-walk-with-the-wildlife-trust/
LOCATION:The Bradfield Centre\, 184 Cambridge Science Park Milton Rd\, Cambridge\, CB4 0GA\, United Kingdom
CATEGORIES:Community & Social,Park Event
ATTACH;FMTTYPE=image/png:https://cambridgesciencepark.co.uk/wp-content/uploads/2026/03/Wildlife-trust.png
END:VEVENT
END:VCALENDAR