BEGIN:VCALENDAR
VERSION:2.0
PRODID:-//Cambridge Science Park - ECPv6.15.20//NONSGML v1.0//EN
CALSCALE:GREGORIAN
METHOD:PUBLISH
X-WR-CALNAME:Cambridge Science Park
X-ORIGINAL-URL:https://cambridgesciencepark.co.uk
X-WR-CALDESC:Events for Cambridge Science Park
REFRESH-INTERVAL;VALUE=DURATION:PT1H
X-Robots-Tag:noindex
X-PUBLISHED-TTL:PT1H
BEGIN:VTIMEZONE
TZID:Europe/London
BEGIN:DAYLIGHT
TZOFFSETFROM:+0000
TZOFFSETTO:+0100
TZNAME:BST
DTSTART:20250330T010000
END:DAYLIGHT
BEGIN:STANDARD
TZOFFSETFROM:+0100
TZOFFSETTO:+0000
TZNAME:GMT
DTSTART:20251026T010000
END:STANDARD
BEGIN:DAYLIGHT
TZOFFSETFROM:+0000
TZOFFSETTO:+0100
TZNAME:BST
DTSTART:20260329T010000
END:DAYLIGHT
BEGIN:STANDARD
TZOFFSETFROM:+0100
TZOFFSETTO:+0000
TZNAME:GMT
DTSTART:20261025T010000
END:STANDARD
BEGIN:DAYLIGHT
TZOFFSETFROM:+0000
TZOFFSETTO:+0100
TZNAME:BST
DTSTART:20270328T010000
END:DAYLIGHT
BEGIN:STANDARD
TZOFFSETFROM:+0100
TZOFFSETTO:+0000
TZNAME:GMT
DTSTART:20271031T010000
END:STANDARD
END:VTIMEZONE
BEGIN:VEVENT
DTSTART;TZID=Europe/London:20260513T110000
DTEND;TZID=Europe/London:20260513T123000
DTSTAMP:20260421T143045
CREATED:20260421T103857Z
LAST-MODIFIED:20260421T112756Z
UID:11896-1778670000-1778675400@cambridgesciencepark.co.uk
SUMMARY:Facilities Management - Special Interest Group
DESCRIPTION:The next Facilities Management Special Interest Group will be taking place on Wednesday 13 May at The Bradfield Centre. Agenda to follow.
URL:https://cambridgesciencepark.co.uk/calendar-event/facilities-management-special-interest-group-2/
LOCATION:The Bradfield Centre\, 184 Cambridge Science Park Milton Rd\, Cambridge\, CB4 0GA\, United Kingdom
CATEGORIES:SIG,Special Interest Group
ATTACH;FMTTYPE=image/png:https://cambridgesciencepark.co.uk/wp-content/uploads/2026/04/FACILITIES-MANAGEMENT-SIG.png
END:VEVENT
END:VCALENDAR